BEGIN:VCALENDAR
VERSION:2.0
PRODID:SchoolNow
CALSCALE:GREGORIAN
BEGIN:VEVENT
UID:784c6f1c-e4d4-11ef-a8d1-0ef3487d558d
DTSTAMP:20250227T192518Z
SUMMARY:Job Fair
LOCATION:FRC Gymnasium
URL;VALUE=URI:https://www.frc.edu/studentlife/calendar/7432702/job-fair
DTSTART:20250306T200000Z
DTEND:20250307T000000Z
END:VEVENT
END:VCALENDAR
