BEGIN:VCALENDAR
VERSION:2.0
PRODID:SchoolNow
CALSCALE:GREGORIAN
BEGIN:VEVENT
UID:4d5918cc-e41c-11ef-9642-0a58a9feac02
DTSTAMP:20250205T235527Z
SUMMARY:Dairy Day
LOCATION:Student Wellness & Success Center
URL;VALUE=URI:https://www.frc.edu/studentlife/calendar/7429267/dairy-day
DTSTART:20250211T180000Z
DTEND:20250211T190000Z
END:VEVENT
END:VCALENDAR
