BEGIN:VCALENDAR
VERSION:2.0
PRODID:SchoolNow
CALSCALE:GREGORIAN
BEGIN:VEVENT
UID:9a075b5c-e318-11ef-9e5d-0e9018337a89
DTSTAMP:20250204T165347Z
SUMMARY:Workshop on Resilience
LOCATION:Disability Support Program for Students (DSPS)
URL;VALUE=URI:https://www.frc.edu/studentlife/calendar/7421735/workshop-on-
 resilience
DTSTART:20250212T200000Z
DTEND:20250212T210000Z
END:VEVENT
END:VCALENDAR
