BEGIN:VCALENDAR
VERSION:2.0
PRODID:SchoolNow
CALSCALE:GREGORIAN
BEGIN:VEVENT
UID:20470d58-e318-11ef-99f1-0251bab04557
DTSTAMP:20250205T235448Z
SUMMARY:Guess the Amount of Valentine's
LOCATION:Advising/Counseling Office
URL;VALUE=URI:https://www.frc.edu/studentlife/calendar/7421734/guess-the-am
 ount-of-valentines-eops
DTSTART:20250206T164700Z
DTEND:20250212T174700Z
ATTACH;FILENAME=Happy Valentine's Day (Flyer) (2).png;FMTTYPE=image/png:htt
 ps://campussuite-storage.s3.amazonaws.com/prod/1558523/0672826e-a84b-11e7-
 9779-0ae3e1d9783c/2911321/e6ce7a0c-e317-11ef-8eed-0affed4a8c65/file/Happy 
 Valentine's Day (Flyer) (2).png
END:VEVENT
END:VCALENDAR
