BEGIN:VCALENDAR
VERSION:2.0
PRODID:SchoolNow
CALSCALE:GREGORIAN
BEGIN:VEVENT
UID:84aa9c4c-e313-11ef-ba69-0a58a9feac02
DTSTAMP:20250204T161724Z
SUMMARY:Golden Eagle Pride Center Grand Opening & Valentine's Day Party
LOCATION:Student Lounge
URL;VALUE=URI:https://www.frc.edu/studentlife/calendar/7421721/golden-eagle
 -pride-center-grand-opening-valentines-day-party
DTSTART:20250213T200000Z
DTEND:20250213T210000Z
ATTACH;FILENAME=Love (1).png;FMTTYPE=image/png:https://campussuite-storage.
 s3.amazonaws.com/prod/1558523/0672826e-a84b-11e7-9779-0ae3e1d9783c/2911284
 /6e2aa2f0-e313-11ef-ab78-0a58a9feac02/file/Love (1).png
END:VEVENT
END:VCALENDAR
