BEGIN:VCALENDAR
VERSION:2.0
PRODID:SchoolNow
CALSCALE:GREGORIAN
BEGIN:VEVENT
UID:ce75f328-de89-11ef-b872-0afff9192821
DTSTAMP:20250129T214132Z
SUMMARY:Groundhog Fever Fest
LOCATION:Downtown Quincy
URL;VALUE=URI:https://www.frc.edu/studentlife/calendar/7395107/groundhog-fe
 ver-fest
DTSTART:20250201T190000Z
DTEND:20250201T230000Z
END:VEVENT
END:VCALENDAR
