BEGIN:VCALENDAR
VERSION:2.0
PRODID:SchoolNow
CALSCALE:GREGORIAN
BEGIN:VEVENT
UID:d98ceb8e-de6d-11ef-9a2a-0a58a9feac02
DTSTAMP:20250130T190853Z
SUMMARY:Student & Staff Indoor Game Night
LOCATION:Plumas Fairgrounds (inside Serpillio Hall)
URL;VALUE=URI:https://www.frc.edu/studentlife/calendar/7393609/student-staf
 f-game-night
DTSTART:20250212T013000Z
DTEND:20250212T040000Z
END:VEVENT
END:VCALENDAR
