BEGIN:VCALENDAR
VERSION:2.0
PRODID:SchoolNow
CALSCALE:GREGORIAN
BEGIN:VEVENT
UID:efae541c-dc55-11ef-9a3b-0e6b2bf4e869
DTSTAMP:20250127T022524Z
SUMMARY:Set up for Success Workshop
URL;VALUE=URI:https://www.frc.edu/studentlife/calendar/7378584/set-up-for-s
 uccess-workshop
DTSTART:20250129T200000Z
DTEND:20250129T210000Z
END:VEVENT
END:VCALENDAR
