BEGIN:VCALENDAR
VERSION:2.0
PRODID:SchoolNow
CALSCALE:GREGORIAN
BEGIN:VEVENT
UID:a2f8f05e-d91d-11ef-9ba3-0a58a9feac02
DTSTAMP:20250127T023016Z
SUMMARY:Hot Cocoa & Club Mixer
LOCATION:Student Lounge
URL;VALUE=URI:https://www.frc.edu/studentlife/calendar/7355410/hot-cocoa-cl
 ub-mixer
DTSTART:20250130T200000Z
DTEND:20250130T210000Z
END:VEVENT
END:VCALENDAR
