BEGIN:VCALENDAR
VERSION:2.0
PRODID:SchoolNow
CALSCALE:GREGORIAN
BEGIN:VEVENT
UID:7b21c782-d4f3-11ef-acf6-0a58a9feac02
DTSTAMP:20250117T174051Z
SUMMARY:Free Movie Nights (WOW Event)
LOCATION:Town Hall Theater
URL;VALUE=URI:https://www.frc.edu/studentlife/calendar/7329784/free-movie-n
 ights-wow-event
DTSTART:20250117T164600Z
DTEND:20250119T174600Z
END:VEVENT
END:VCALENDAR
