BEGIN:VCALENDAR
VERSION:2.0
PRODID:SchoolNow
CALSCALE:GREGORIAN
BEGIN:VEVENT
UID:ea138310-cf99-11ef-b22b-0268ede5cc6b
DTSTAMP:20250110T212903Z
SUMMARY:Bowling Bonanza (WOW Event)
LOCATION:Sierra Bella Lanes
URL;VALUE=URI:https://www.frc.edu/studentlife/calendar/7297417/bowling-bona
 nza-wow-event
DTSTART:20250125T020000Z
DTEND:20250125T040000Z
END:VEVENT
END:VCALENDAR
