BEGIN:VCALENDAR
VERSION:2.0
PRODID:SchoolNow
CALSCALE:GREGORIAN
BEGIN:VEVENT
UID:95a919cc-cf88-11ef-b2f1-0a58a9feac02
DTSTAMP:20250110T192500Z
SUMMARY:Men's Basketball vs. College of Siskiyous!
URL;VALUE=URI:https://www.frc.edu/studentlife/calendar/7296924/mens-basketb
 all-vs-college-of-siskiyous
DTSTART:20250111T210000Z
DTEND:20250111T230000Z
END:VEVENT
END:VCALENDAR
