BEGIN:VCALENDAR
VERSION:2.0
PRODID:SchoolNow
CALSCALE:GREGORIAN
BEGIN:VEVENT
UID:53b938ee-cf88-11ef-adfb-0a58a9feac02
DTSTAMP:20250110T192309Z
SUMMARY:Home Basketball Game - Blackout (WOW Event)
LOCATION:Gymnasium
URL;VALUE=URI:https://www.frc.edu/studentlife/calendar/7296923/home-basketb
 all-game-blackout-wow-event
DTSTART:20250124T010000Z
DTEND:20250124T030000Z
END:VEVENT
END:VCALENDAR
