BEGIN:VCALENDAR
VERSION:2.0
PRODID:SchoolNow
CALSCALE:GREGORIAN
BEGIN:VEVENT
UID:f2e09e9a-cf87-11ef-93e1-0a58a9feac02
DTSTAMP:20250110T192027Z
SUMMARY:Resource Fair & Dinner (WOW Event)
LOCATION:Gymnasium
URL;VALUE=URI:https://www.frc.edu/studentlife/calendar/7296922/resource-fai
 r-dinner-wow-event
DTSTART:20250123T003000Z
DTEND:20250123T023000Z
END:VEVENT
END:VCALENDAR
