BEGIN:VCALENDAR
VERSION:2.0
PRODID:SchoolNow
CALSCALE:GREGORIAN
BEGIN:VEVENT
UID:e4571eb8-cf86-11ef-8c7c-0afffdd1788f
DTSTAMP:20250110T191253Z
SUMMARY:Coffee & Pastries (WOW Event)
LOCATION:The Perch
URL;VALUE=URI:https://www.frc.edu/studentlife/calendar/7296921/coffee-pastr
 ies-wow-event
DTSTART:20250121T163000Z
DTEND:20250121T183000Z
END:VEVENT
END:VCALENDAR
