BEGIN:VCALENDAR
VERSION:2.0
PRODID:SchoolNow
CALSCALE:GREGORIAN
BEGIN:VEVENT
UID:782bf618-ceba-11ef-9310-0a58a9feac02
DTSTAMP:20250206T163815Z
SUMMARY:Free Lunch for Students provided by Basic Needs
LOCATION:Eagles Perch
URL;VALUE=URI:https://www.frc.edu/studentlife/calendar/7291841/free-lunch-f
 or-students
DTSTART:20250123T190000Z
DTEND:20250123T220000Z
END:VEVENT
END:VCALENDAR
