BEGIN:VCALENDAR
VERSION:2.0
PRODID:SchoolNow
CALSCALE:GREGORIAN
BEGIN:VEVENT
UID:4415cbbe-acec-11ef-8ce3-0a58a9feac02
DTSTAMP:20241127T182022Z
SUMMARY:Sparkle (Downtown Quincy)
LOCATION:Downtown Quincy
URL;VALUE=URI:https://www.frc.edu/studentlife/calendar/7087747/sparkle-down
 town-quincy
DTSTART:20241207T010000Z
DTEND:20241207T040000Z
END:VEVENT
END:VCALENDAR
