BEGIN:VCALENDAR
VERSION:2.0
PRODID:SchoolNow
CALSCALE:GREGORIAN
BEGIN:VEVENT
UID:6b62bca6-ac4f-11ef-bcff-0a58a9feac02
DTSTAMP:20241203T160455Z
SUMMARY:Assistive Technology Workshop
LOCATION:DSPS Office
URL;VALUE=URI:https://www.frc.edu/studentlife/calendar/7084200/assistive-te
 chnology-workshop
DTSTART:20241203T201500Z
DTEND:20241203T210000Z
END:VEVENT
END:VCALENDAR
