BEGIN:VCALENDAR
VERSION:2.0
PRODID:SchoolNow
CALSCALE:GREGORIAN
BEGIN:VEVENT
UID:f9a642b0-a909-11ef-9798-02d37b7bd3e3
DTSTAMP:20241122T194315Z
SUMMARY:Warm Up Before Finals! Free Cocoa & Cookies with Your Student Leade
 rs!
LOCATION:Eagles Perch
URL;VALUE=URI:https://www.frc.edu/studentlife/calendar/7064073/warm-up-befo
 re-finals-free-cocoa-cookies-with-your-student-leaders
DTSTART:20241202T160000Z
DTEND:20241202T180000Z
END:VEVENT
END:VCALENDAR
