BEGIN:VCALENDAR
VERSION:2.0
PRODID:SchoolNow
CALSCALE:GREGORIAN
BEGIN:VEVENT
UID:2c84ed6e-a77d-11ef-a45c-0e2b58fea797
DTSTAMP:20241120T202233Z
SUMMARY:Holiday Party with the Student Wellness and Success Center
LOCATION:FRC Art Studio
URL;VALUE=URI:https://www.frc.edu/studentlife/calendar/7053219/holiday-part
 y-with-the-student-wellness-and-success-center
DTSTART:20241204T010000Z
DTEND:20241204T030000Z
ATTACH;FILENAME=SWSC Holiday Party.pdf;FMTTYPE=application/pdf:https://camp
 ussuite-storage.s3.amazonaws.com/prod/1558523/0672826e-a84b-11e7-9779-0ae3
 e1d9783c/2882251/0ae3ca04-a77d-11ef-9adf-0a58a9feac02/file/SWSC Holiday Pa
 rty.pdf
END:VEVENT
END:VCALENDAR
