BEGIN:VCALENDAR
VERSION:2.0
PRODID:SchoolNow
CALSCALE:GREGORIAN
BEGIN:VEVENT
UID:7614d348-a60d-11ef-8d21-0a58a9feac02
DTSTAMP:20241119T003133Z
SUMMARY:Raising Student Voices
LOCATION:LRC 871
URL;VALUE=URI:https://www.frc.edu/studentlife/calendar/7043982/raising-stud
 ent-voices-clone
DTSTART:20241205T200000Z
DTEND:20241205T210000Z
END:VEVENT
END:VCALENDAR
