BEGIN:VCALENDAR
VERSION:2.0
PRODID:SchoolNow
CALSCALE:GREGORIAN
BEGIN:VEVENT
UID:0c457a18-a60c-11ef-a213-028c54618209
DTSTAMP:20241119T003117Z
SUMMARY:Raising Student Voices
LOCATION:Zoom
URL;VALUE=URI:https://www.frc.edu/studentlife/calendar/7043979/raising-stud
 ent-voices
DTSTART:20241122T200000Z
DTEND:20241122T210000Z
END:VEVENT
END:VCALENDAR
