BEGIN:VCALENDAR
VERSION:2.0
PRODID:SchoolNow
CALSCALE:GREGORIAN
BEGIN:VEVENT
UID:4d17f902-a603-11ef-a95b-0a58a9feac02
DTSTAMP:20241119T000055Z
SUMMARY:Thanksgiving Lunch
LOCATION:The Perch
URL;VALUE=URI:https://www.frc.edu/studentlife/calendar/7043969/thanksgiving
 -lunch
DTSTART:20241126T190000Z
DTEND:20241126T210000Z
END:VEVENT
END:VCALENDAR
