BEGIN:VCALENDAR
VERSION:2.0
PRODID:SchoolNow
CALSCALE:GREGORIAN
BEGIN:VEVENT
UID:e13d01c0-a2db-11ef-a065-0a58a9feac02
DTSTAMP:20241118T172830Z
SUMMARY:Bread Baking Bash!
LOCATION:Disability Support Program for Students (DSPS) Office
URL;VALUE=URI:https://www.frc.edu/studentlife/calendar/7022399/bread-baking
 -bash
DTSTART:20241121T200000Z
DTEND:20241121T210000Z
END:VEVENT
END:VCALENDAR
