BEGIN:VCALENDAR
VERSION:2.0
PRODID:SchoolNow
CALSCALE:GREGORIAN
BEGIN:VEVENT
UID:c7953504-a12c-11ef-ab13-0afff0296461
DTSTAMP:20241114T223845Z
SUMMARY:International Student Day Celebration
LOCATION:The Perch & Student Lounge
URL;VALUE=URI:https://www.frc.edu/studentlife/calendar/7008432/internationa
 l-student-day-celebration
DTSTART:20241119T010000Z
DTEND:20241119T020000Z
END:VEVENT
END:VCALENDAR
