BEGIN:VCALENDAR
VERSION:2.0
PRODID:SchoolNow
CALSCALE:GREGORIAN
BEGIN:VEVENT
UID:0b2637d6-9b98-11ef-9d05-0a58a9feac02
DTSTAMP:20241105T170439Z
SUMMARY:Comfort Food Meal Kit
LOCATION:Student Wellness and Success Center
URL;VALUE=URI:https://www.frc.edu/studentlife/calendar/6964325/pancake-brea
 kfast-meal-kit-scavenger-hunt-clone-clone
DTSTART;VALUE=DATE:20241119
DTEND;VALUE=DATE:20241120
END:VEVENT
END:VCALENDAR
