BEGIN:VCALENDAR
VERSION:2.0
PRODID:SchoolNow
CALSCALE:GREGORIAN
BEGIN:VEVENT
UID:17ee6162-9b09-11ef-9019-0a58a9feac02
DTSTAMP:20241113T172637Z
SUMMARY:Turkey Trot
LOCATION:FRC Bike Path
URL;VALUE=URI:https://www.frc.edu/studentlife/calendar/6961439/turkey-trot
DTSTART:20241128T170000Z
DTEND:20241128T180000Z
END:VEVENT
END:VCALENDAR
