BEGIN:VCALENDAR
VERSION:2.0
PRODID:SchoolNow
CALSCALE:GREGORIAN
BEGIN:VEVENT
UID:f152c09c-9627-11ef-bbb5-02a359907f51
DTSTAMP:20241029T190310Z
SUMMARY:Spirit Week Kickoff - FREE Green & Gold Lunch
LOCATION:The Perch
URL;VALUE=URI:https://www.frc.edu/studentlife/calendar/6922348/spirit-week-
 kickoff-free-green-gold-lunch
DTSTART:20241105T193000Z
DTEND:20241105T210000Z
END:VEVENT
END:VCALENDAR
