BEGIN:VCALENDAR
VERSION:2.0
PRODID:SchoolNow
CALSCALE:GREGORIAN
BEGIN:VEVENT
UID:32c58172-931c-11ef-983a-02711b7c638f
DTSTAMP:20241025T215759Z
SUMMARY:National First-Generation College Celebration Day
URL;VALUE=URI:https://www.frc.edu/studentlife/calendar/6898385/national-fir
 st-generation-college-celebration-day
DTSTART:20241108T225600Z
DTEND:20241108T235600Z
END:VEVENT
END:VCALENDAR
