BEGIN:VCALENDAR
VERSION:2.0
PRODID:SchoolNow
CALSCALE:GREGORIAN
BEGIN:VEVENT
UID:4a4d3bd8-931b-11ef-a4fb-0a58a9feac02
DTSTAMP:20241025T215129Z
SUMMARY:Safe Trick or Treat (Downtown Quincy)
LOCATION:Downtown Quincy
URL;VALUE=URI:https://www.frc.edu/studentlife/calendar/6898383/safe-trick-o
 r-treat-downtown-quincy
DTSTART:20241031T220000Z
DTEND:20241101T003000Z
END:VEVENT
END:VCALENDAR
