BEGIN:VCALENDAR
VERSION:2.0
PRODID:SchoolNow
CALSCALE:GREGORIAN
BEGIN:VEVENT
UID:6c4b0158-92ed-11ef-91c1-0a58a9feac02
DTSTAMP:20241107T165826Z
SUMMARY:Football vs. Butte (Spirit Week)
LOCATION:Brennan Stadium
URL;VALUE=URI:https://www.frc.edu/studentlife/calendar/6896642/mens-footbal
 l-vs-butte-at-home
DTSTART:20241109T210000Z
DTEND:20241109T230000Z
END:VEVENT
END:VCALENDAR
