BEGIN:VCALENDAR
VERSION:2.0
PRODID:SchoolNow
CALSCALE:GREGORIAN
BEGIN:VEVENT
UID:1a481a80-92ed-11ef-96f7-0a58a9feac02
DTSTAMP:20241107T165627Z
SUMMARY:Women's Soccer vs. Lake Tahoe (Spirit Week)
URL;VALUE=URI:https://www.frc.edu/studentlife/calendar/6896641/womens-socce
 r-take-on-lake-tahoe-at-home
DTSTART:20241108T190000Z
DTEND:20241108T200000Z
END:VEVENT
END:VCALENDAR
