BEGIN:VCALENDAR
VERSION:2.0
PRODID:SchoolNow
CALSCALE:GREGORIAN
BEGIN:VEVENT
UID:f69efc84-92ec-11ef-86b9-021459f6a7fb
DTSTAMP:20241107T165739Z
SUMMARY:Men's Soccer vs. Lake Tahoe (Spirit Week)
URL;VALUE=URI:https://www.frc.edu/studentlife/calendar/6896640/mens-soccer-
 vs-lake-tahoe-at-home
DTSTART:20241108T213000Z
DTEND:20241108T223000Z
END:VEVENT
END:VCALENDAR
