BEGIN:VCALENDAR
VERSION:2.0
PRODID:SchoolNow
CALSCALE:GREGORIAN
BEGIN:VEVENT
UID:ee5c3912-92ea-11ef-8346-02711b7c638f
DTSTAMP:20241107T165804Z
SUMMARY:Women's Volleyball vs. Butte (Spirit Week)
URL;VALUE=URI:https://www.frc.edu/studentlife/calendar/6896639/womens-volle
 yball-vs-butte-at-home
DTSTART:20241109T020000Z
DTEND:20241109T030000Z
END:VEVENT
END:VCALENDAR
