BEGIN:VCALENDAR
VERSION:2.0
PRODID:SchoolNow
CALSCALE:GREGORIAN
BEGIN:VEVENT
UID:bebd6b92-917b-11ef-915e-0a58a9feac02
DTSTAMP:20241023T201653Z
SUMMARY:Veterans Day Flag Raising Ceremonies
LOCATION:Flag Pole on Upper Main Campus
URL;VALUE=URI:https://www.frc.edu/studentlife/calendar/6884815/veterans-day
 -flag-raising-ceremonies
DTSTART:20241108T190000Z
DTEND:20241108T200000Z
END:VEVENT
END:VCALENDAR
