BEGIN:VCALENDAR
VERSION:2.0
PRODID:SchoolNow
CALSCALE:GREGORIAN
BEGIN:VEVENT
UID:095662d4-90c9-11ef-afee-0a58a9feac02
DTSTAMP:20241108T205952Z
SUMMARY:Yellow Scone Days
LOCATION:Advising Office / EOPS
URL;VALUE=URI:https://www.frc.edu/studentlife/calendar/6878036/yellow-scone
 -days
DTSTART:20241106T235300Z
DTEND:20241108T005300Z
END:VEVENT
END:VCALENDAR
