BEGIN:VCALENDAR
VERSION:2.0
PRODID:SchoolNow
CALSCALE:GREGORIAN
BEGIN:VEVENT
UID:c0ff927e-90a2-11ef-960e-0a58a9feac02
DTSTAMP:20241030T224843Z
SUMMARY:FRC Halloween Celebration
LOCATION:Student Lounge
URL;VALUE=URI:https://www.frc.edu/studentlife/calendar/6876244/frc-hallowee
 n-celebration
DTSTART:20241031T183000Z
DTEND:20241031T200000Z
ATTACH;FILENAME=Halloween-2024_Updated.png;FMTTYPE=image/png:https://campus
 suite-storage.s3.amazonaws.com/prod/1558523/0672826e-a84b-11e7-9779-0ae3e1
 d9783c/2870515/a6a5b85a-9619-11ef-9b5e-02a859f37f53/file/Halloween-2024_Up
 dated.png
END:VEVENT
END:VCALENDAR
