BEGIN:VCALENDAR
VERSION:2.0
PRODID:SchoolNow
CALSCALE:GREGORIAN
BEGIN:VEVENT
UID:3c189238-909b-11ef-8fd3-0a58a9feac02
DTSTAMP:20241022T184552Z
SUMMARY:Halloween Lounge Night
LOCATION:Student Lounge (downstairs from Perch)
URL;VALUE=URI:https://www.frc.edu/studentlife/calendar/6876192/halloween-lo
 unge-night
DTSTART:20241101T010000Z
DTEND:20241101T040000Z
ATTACH;FILENAME=BSU-Halloween-2024.jpg;FMTTYPE=image/jpeg:https://campussui
 te-storage.s3.amazonaws.com/prod/1558523/0672826e-a84b-11e7-9779-0ae3e1d97
 83c/2866569/b1bf4cca-90a5-11ef-959d-0a58a9feac02/file/BSU-Halloween-2024.j
 pg
END:VEVENT
END:VCALENDAR
