BEGIN:VCALENDAR
VERSION:2.0
PRODID:SchoolNow
CALSCALE:GREGORIAN
BEGIN:VEVENT
UID:aa8dfa8e-9099-11ef-b1ff-0a58a9feac02
DTSTAMP:20251125T162539Z
SUMMARY:Associated Students of Feather River College Monthly Meeting
LOCATION:LRC 871
URL;VALUE=URI:https://www.frc.edu/studentlife/calendar/6876191/associated-s
 tudents-of-feather-river-college-monthly-meeting
DTSTART:20241106T170000Z
DTEND:20241106T180000Z
END:VEVENT
END:VCALENDAR
