BEGIN:VCALENDAR
VERSION:2.0
PRODID:SchoolNow
CALSCALE:GREGORIAN
BEGIN:VEVENT
UID:a13804fc-9099-11ef-b1a4-02bafdf19c3b
DTSTAMP:20241204T165403Z
SUMMARY:Associated Students of Feather River College Monthly Meeting
LOCATION:LRC 871
URL;VALUE=URI:https://www.frc.edu/studentlife/calendar/6876189/associated-s
 tudents-of-feather-river-college-monthly-meeting-clone
DTSTART:20241204T171500Z
DTEND:20241204T180000Z
END:VEVENT
END:VCALENDAR
