BEGIN:VCALENDAR
VERSION:2.0
PRODID:SchoolNow
CALSCALE:GREGORIAN
BEGIN:VEVENT
UID:e65ff4f6-9092-11ef-9fc2-0a58a9feac02
DTSTAMP:20241022T163007Z
SUMMARY:Caring Campus Meeting
LOCATION:Student Lounge
URL;VALUE=URI:https://www.frc.edu/studentlife/calendar/6876065/caring-campu
 s-meeting
DTSTART:20241031T010000Z
DTEND:20241031T020000Z
END:VEVENT
END:VCALENDAR
