BEGIN:VCALENDAR
VERSION:2.0
PRODID:SchoolNow
CALSCALE:GREGORIAN
BEGIN:VEVENT
UID:9826169c-8cbb-11ef-9ddd-0afffc655fcb
DTSTAMP:20241029T171804Z
SUMMARY:Chili Cook Off
LOCATION:Student Lounge
URL;VALUE=URI:https://www.frc.edu/studentlife/calendar/6845213/chili-cook-o
 ff
DTSTART:20241031T184500Z
DTEND:20241031T200000Z
ATTACH;FILENAME=Chili-Cookoff_Updated_FA24.png;FMTTYPE=image/png:https://ca
 mpussuite-storage.s3.amazonaws.com/prod/1558523/0672826e-a84b-11e7-9779-0a
 e3e1d9783c/2870516/a6a5f5ae-9619-11ef-8f55-02a859f37f53/file/Chili-Cookoff
 _Updated_FA24.png
END:VEVENT
END:VCALENDAR
