BEGIN:VCALENDAR
VERSION:2.0
PRODID:SchoolNow
CALSCALE:GREGORIAN
BEGIN:VEVENT
UID:e974d912-8a49-11ef-a144-0e2575b26ea5
DTSTAMP:20241014T164057Z
SUMMARY:Game Night in the Lounge
URL;VALUE=URI:https://www.frc.edu/studentlife/calendar/6824407/game-night-i
 n-the-lounge
DTSTART:20241017T010000Z
DTEND:20241017T030000Z
END:VEVENT
END:VCALENDAR
