BEGIN:VCALENDAR
VERSION:2.0
PRODID:SchoolNow
CALSCALE:GREGORIAN
BEGIN:VEVENT
UID:20b986ec-8749-11ef-b076-0a58a9feac02
DTSTAMP:20241028T160304Z
SUMMARY:Pop Up Coffee Bar with ASFRC Officers
LOCATION:Front of Student Wellness and Success Center
URL;VALUE=URI:https://www.frc.edu/studentlife/calendar/6800246/pop-up-coffe
 e-bar-with-asfrc-officers
DTSTART:20241030T153000Z
DTEND:20241030T170000Z
END:VEVENT
END:VCALENDAR
