BEGIN:VCALENDAR
VERSION:2.0
PRODID:SchoolNow
CALSCALE:GREGORIAN
BEGIN:VEVENT
UID:52b0c746-8735-11ef-84cc-02d461682ecd
DTSTAMP:20241010T183137Z
SUMMARY:National Coming Out Day
URL;VALUE=URI:https://www.frc.edu/studentlife/calendar/6798076/national-com
 ing-out-day
DTSTART:20241011T182400Z
DTEND:20241011T192400Z
END:VEVENT
END:VCALENDAR
