BEGIN:VCALENDAR
VERSION:2.0
PRODID:SchoolNow
CALSCALE:GREGORIAN
BEGIN:VEVENT
UID:b15d8ee2-85c2-11ef-8788-025defbebaeb
DTSTAMP:20241008T221431Z
SUMMARY:Health Awareness
LOCATION:Allied Health Building
URL;VALUE=URI:https://www.frc.edu/studentlife/calendar/6785637/health-aware
 ness
DTSTART:20241015T180000Z
DTEND:20241015T190000Z
ATTACH;FILENAME=Black Elegant Breast Cancer Awareness Campaign _Page_1.jpg;
 FMTTYPE=image/jpeg:https://campussuite-storage.s3.amazonaws.com/prod/15585
 23/0672826e-a84b-11e7-9779-0ae3e1d9783c/2859486/9347118a-85c2-11ef-bbb5-0a
 ffc21158ad/file/Black Elegant Breast Cancer Awareness Campaign _Page_1.jpg
END:VEVENT
END:VCALENDAR
