BEGIN:VCALENDAR
VERSION:2.0
PRODID:SchoolNow
CALSCALE:GREGORIAN
BEGIN:VEVENT
UID:75feeb9a-84c1-11ef-83dc-0affd750dcc9
DTSTAMP:20241007T153311Z
SUMMARY:Dinner & Movie for Disability Awareness
LOCATION:Main 203
URL;VALUE=URI:https://www.frc.edu/studentlife/calendar/6776646/dinner-movie
 -for-disability-awareness
DTSTART:20241011T003000Z
DTEND:20241011T023000Z
ATTACH;FILENAME=Yellow Red Illustration Movie Night Flyer.png;FMTTYPE=image
 /png:https://campussuite-storage.s3.amazonaws.com/prod/1558523/0672826e-a8
 4b-11e7-9779-0ae3e1d9783c/2858518/60971188-84c1-11ef-b83e-0a58a9feac02/fil
 e/Yellow Red Illustration Movie Night Flyer.png
END:VEVENT
END:VCALENDAR
