BEGIN:VCALENDAR
VERSION:2.0
PRODID:SchoolNow
CALSCALE:GREGORIAN
BEGIN:VEVENT
UID:ecf20520-827d-11ef-a0d9-0a58a9feac02
DTSTAMP:20241204T180514Z
SUMMARY:Student Research Symposium
LOCATION:FRC Gymnasium & Various Locations on Campus
URL;VALUE=URI:https://www.frc.edu/studentlife/calendar/6756177/student-rese
 arch-symposium-clone-clone
DTSTART:20241204T203000Z
DTEND:20241205T010000Z
ATTACH;FILENAME=Symposium_FA24.jpg;FMTTYPE=image/jpeg:https://campussuite-s
 torage.s3.amazonaws.com/prod/1558523/0672826e-a84b-11e7-9779-0ae3e1d9783c/
 2883464/c7e1f4c2-a909-11ef-a69b-0e571b49058f/file/Symposium_FA24.jpg
END:VEVENT
END:VCALENDAR
