BEGIN:VCALENDAR
VERSION:2.0
PRODID:SchoolNow
CALSCALE:GREGORIAN
BEGIN:VEVENT
UID:8a65243e-7f2e-11ef-86fc-0a58a9feac02
DTSTAMP:20241004T181452Z
SUMMARY:Pumpkin Decorating with the CDC kids!
LOCATION:Outside Perch
URL;VALUE=URI:https://www.frc.edu/studentlife/calendar/6723815/pumpkin-deco
 rating-with-the-cdc
DTSTART:20241003T190000Z
DTEND:20241003T200000Z
END:VEVENT
END:VCALENDAR
