BEGIN:VCALENDAR
VERSION:2.0
PRODID:SchoolNow
CALSCALE:GREGORIAN
BEGIN:VEVENT
UID:8720cd24-7d20-11ef-9d6a-0a58a9feac02
DTSTAMP:20240927T223333Z
SUMMARY:November 5\, 2024\, General Election: Your State Voter Information 
 Guide Session 2: Make a Plan to Vote and Voter Resources
LOCATION:Webinar
URL;VALUE=URI:https://www.frc.edu/studentlife/calendar/6706955/november-5-2
 024-general-election-your-state-voter-information-guide-session-2-make-a-p
 lan-to-vote-and-voter-resources
DTSTART:20240930T190000Z
DTEND:20240930T200000Z
END:VEVENT
END:VCALENDAR
